BEGIN:VCALENDAR
VERSION:2.0
PRODID:-//Tukios.com/
BEGIN:VEVENT
UID:b3bc1e79-190a-46a5-bf82-fff1c595f7a4@www.gracegardensfh.com
DTSTAMP:20260421T015101Z
DTSTART:20260425T190000Z
DTEND:20260425T200000Z
SUMMARY:Celebration of Life
DESCRIPTION:
URL:https://www.gracegardensfh.com/obituaries/donny-peters
LOCATION: 8220 Woodway Dr  Woodway TX 76712
GEO:31.5004899;-97.2111621
END:VEVENT
END:VCALENDAR