BEGIN:VCALENDAR
VERSION:2.0
PRODID:-//Tukios.com/
BEGIN:VEVENT
UID:b524845e-e6c0-4e10-b427-14a8a56a9e9a@www.gracegardensfh.com
DTSTAMP:20260421T015423Z
DTSTART:20260425T200000Z
DTEND:20260425T210000Z
SUMMARY:Memorial Gathering
DESCRIPTION:
URL:https://www.gracegardensfh.com/obituaries/donny-peters
LOCATION: 8220 Woodway Dr  Woodway TX 76712
GEO:31.5004899;-97.2111621
END:VEVENT
END:VCALENDAR