BEGIN:VCALENDAR
VERSION:2.0
PRODID:-//Tukios.com/
BEGIN:VEVENT
UID:bfc4563c-e60a-4582-845b-467bc18a4e8d@www.gracegardensfh.com
DTSTAMP:20260421T215020Z
DTSTART:20260425T190000Z
DTEND:20260425T200000Z
SUMMARY:Graveside Service
DESCRIPTION:
URL:https://www.gracegardensfh.com/obituaries/elmer-waldschmidt-jr
LOCATION: The Grove  Flat TX 76657
GEO:31.3087807;-97.6300179
END:VEVENT
END:VCALENDAR