BEGIN:VCALENDAR
VERSION:2.0
PRODID:-//Tukios.com/
BEGIN:VEVENT
UID:0e2d66ae-7857-41bb-93ab-a1777435906d@www.gracegardensfh.com
DTSTAMP:20260421T215123Z
DTSTART:20260425T163000Z
DTEND:20260425T180000Z
SUMMARY:Viewing
DESCRIPTION:
URL:https://www.gracegardensfh.com/obituaries/elmer-waldschmidt-jr
LOCATION: 8220 Woodway Dr  Woodway TX 76712
GEO:31.5004899;-97.2111621
END:VEVENT
END:VCALENDAR