BEGIN:VCALENDAR
VERSION:2.0
PRODID:-//Tukios.com/
BEGIN:VEVENT
UID:1c8cb8f9-88d9-4110-9737-603dc62cb525@www.gracegardensfh.com
DTSTAMP:20260421T025336Z
DTSTART:20260423T180000Z
DTEND:20260423T190000Z
SUMMARY:Graveside Service
DESCRIPTION:
URL:https://www.gracegardensfh.com/obituaries/yvonne-christian
LOCATION: 11002 Chapel Road  Lorena TX 76655
GEO:31.4718434;-97.2338536
END:VEVENT
END:VCALENDAR